BEGIN:VCALENDAR
VERSION:2.0
PRODID:-//Orquestra de Macau - ECPv4.6.12//NONSGML v1.0//EN
CALSCALE:GREGORIAN
METHOD:PUBLISH
X-WR-CALNAME:Orquestra de Macau
X-ORIGINAL-URL:https://www.om-macau.org/zh-hans/
X-WR-CALDESC:Orquestra de Macau的活动
BEGIN:VEVENT
DTSTART;TZID=UTC+8:20221119T200000
DTEND;TZID=UTC+8:20221119T213000
DTSTAMP:20260422T115433
CREATED:20220928T064532Z
LAST-MODIFIED:20240426T035030Z
UID:28229-1668888000-1668893400@www.om-macau.org
SUMMARY:王者之声 (取消)
DESCRIPTION:[vc_row][vc_column width=”2/3″][vc_column_text]因應本澳疫情最新情況，部分樂師未能參與演出，音樂會將作取消，有關退票詳情將另行公佈，票務查詢請電28555555。[/vc_column_text][vc_column_text]日期:2022年11月19日　 星期六 20:00 \n地点：澳门文化中心综合剧院 \n指挥： 俞潞 \n曲目:\n贝多芬：F大调第八交响曲 作品 93\n贝多芬：A大调第七交响曲 作品 92[/vc_column_text][vc_row_inner][vc_column_inner width=”1/5″][vc_column_text el_class=”white mar-b5″ css=”.vc_custom_1664348721988{margin-bottom: 0px !important;padding-bottom: 0px !important;}”]指挥\n俞潞[/vc_column_text][vc_single_image image=”28186″ img_size=”75×75″ onclick=”custom_link” img_link_target=”_blank” link=”#”][/vc_column_inner][vc_column_inner width=”1/3″][/vc_column_inner][/vc_row_inner][vc_column_text]在当今享誉国际的指挥家俞潞的执棒下，澳门乐团将会演绎两首贝多芬经典名曲，包括充满浪漫主义色彩的《第八交响曲》及描写着人民的凯旋和欢乐，宏伟壮丽、活力充沛的《第七交响曲》。 \n演出时间连中场休息约1小时20分钟[/vc_column_text][/vc_column][vc_column width=”1/3″][vc_column_text]门票现于澳门售票网公开发售 \n票价：MOP 300/250/200/150[/vc_column_text][vc_btn title=”立即购票” style=”gradient-custom” gradient_custom_color_1=”#ff6e02″ size=”lg” align=”center” button_block=”true” link=”url:http%3A%2F%2Fwww.macauticket.com%2FTicketWeb%2FProgramInfo.aspx%3FproCode%3DP-003465%26c%3Dzh-tw||target:%20_blank|”][vc_column_text]根据卫生局疾病预防及控制中心防疫指引，凡入场观众须完成新型冠状病毒疫苗初种系列的全程接种（灭活或信使核糖核酸疫苗初种系列的全程接种为2剂）达14天（澳门健康码上显示“金框”图标）或出示48小时内作出的核酸检测阴性证明，未能出示以上证明之人士，将谢绝进入场地，且不设退票；另进入演出场地时须进行体温测量，如有发热或呼吸道症状之人士，将谢绝进入场地，敬请观众留意及遵循以上的入场要求。[/vc_column_text][vc_column_text el_class=”white”] \n资料下载\n[/vc_column_text][vc_row_inner css=”.vc_custom_1468908085120{margin-top: 35px !important;}”][vc_column_inner width=”1/2″][vc_icon icon_fontawesome=”fa fa-users” color=”custom” background_style=”rounded-outline” background_color=”black” size=”xl” align=”center” custom_color=”#d1ae6d” css=”.vc_custom_1664348560973{margin-bottom: 0px !important;border-bottom-width: 0px !important;padding-bottom: 0px !important;}” link=”||target:%20_blank|”][vc_column_text] \n场刊 \n[/vc_column_text][/vc_column_inner][vc_column_inner width=”1/4″][/vc_column_inner][vc_column_inner width=”1/4″][/vc_column_inner][vc_column_inner width=”1/4″][/vc_column_inner][/vc_row_inner][vc_column_text el_class=”white”] \n分享\n[/vc_column_text]var switchTo5x=true;\n\nstLight.options({"publisher":"2aa5e07a-cb9e-4ea9-bf8a-29c78bd35f7d"});var st_type="wordpress4.5.1";\n[vc_row_inner css=”.vc_custom_1468908085120{margin-top: 35px !important;}”][vc_column_inner width=”1/2″][vc_icon icon_fontawesome=”fa fa-users” color=”custom” background_style=”rounded-outline” background_color=”black” size=”xl” align=”center” custom_color=”#d1ae6d” css=”.vc_custom_1664350936597{margin-bottom: 0px !important;border-bottom-width: 0px !important;padding-bottom: 0px !important;}” link=”url:https%3A%2F%2Fwww.om-macau.org%2Fzh-hans%2F%25e6%25be%25b3%25e9%2597%25a8%25e4%25b9%2590%25e5%259b%25a2%25e4%25b9%258b%25e5%258f%258b%2F||target:%20_blank|”][vc_column_text] \n申请成为乐团之友 \n[/vc_column_text][/vc_column_inner][vc_column_inner width=”1/2″][vc_icon icon_fontawesome=”fa fa-gift” color=”custom” background_style=”rounded-outline” background_color=”black” size=”xl” align=”center” custom_color=”#d1ae6d” css=”.vc_custom_1664949581817{margin-bottom: 0px !important;border-bottom-width: 0px !important;padding-bottom: 0px !important;}” link=”url:https%3A%2F%2Fwww.om-macau.org%2Fzh-hans%2F%25e6%25be%25b3%25e9%2597%25a8%25e4%25b9%2590%25e5%259b%25a22022-23%25e4%25b9%2590%25e5%25ad%25a3%25e4%25b9%2590%25e8%25b4%25ad%25e6%258c%2587%25e5%258d%2597%2F||target:%20_blank|”][vc_column_text] \n购票优惠 \n[/vc_column_text][/vc_column_inner][/vc_row_inner][/vc_column][/vc_row] \n
URL:https://www.om-macau.org/zh-hans/event/%e7%8e%8b%e8%80%85%e4%b9%8b%e8%81%b2-2/
LOCATION:澳門冼星海大馬路文化中心
GEO:22.1897888;113.5537849
X-APPLE-STRUCTURED-LOCATION;VALUE=URI;X-ADDRESS=澳門冼星海大馬路文化中心;X-APPLE-RADIUS=500;X-TITLE=澳門冼星海大馬路文化中心:geo:113.5537849,22.1897888
CATEGORIES:永恒之巅
ATTACH;FMTTYPE=image/jpeg:https://www.om-macau.org/wp-content/uploads/2022/09/小图.jpg
END:VEVENT
END:VCALENDAR