BEGIN:VCALENDAR
VERSION:2.0
PRODID:-//Orquestra de Macau - ECPv4.6.12//NONSGML v1.0//EN
CALSCALE:GREGORIAN
METHOD:PUBLISH
X-WR-CALNAME:Orquestra de Macau
X-ORIGINAL-URL:https://www.om-macau.org/zh-hans/
X-WR-CALDESC:Orquestra de Macau的活动
BEGIN:VEVENT
DTSTART;TZID=UTC+8:20200321T200000
DTEND;TZID=UTC+8:20200321T214500
DTSTAMP:20260419T185033
CREATED:20190620T040031Z
LAST-MODIFIED:20200223T093052Z
UID:18457-1584820800-1584827100@www.om-macau.org
SUMMARY:命运交响曲
DESCRIPTION:[vc_row][vc_column width=”2/3″][vc_column_text]因应新型冠状病毒感染疫情持续，3月21日《命运交响曲》将取消，已购买节目门票的观众可在疫情缓解时联系澳门售票网办理退票手续，退票日期由即日起至5月31日。[/vc_column_text][vc_column_text]日期：2020年03月21日  星期六  Time: 8pm \n地点：澳门文化中心综合剧院 \n指挥／吕嘉 \n小提琴／莱纳‧霍内克 \n曲目：\n贝多芬：歌剧《费德里奥》序曲 　作品 72\n贝多芬：D大调小提琴协奏曲　作品 61\n贝多芬：C小调第五交响曲　作品 67[/vc_column_text][vc_row_inner][vc_column_inner width=”1/5″][vc_column_text el_class=”white mar-b5″ css=”.vc_custom_1561003136208{margin-bottom: 0px !important;padding-bottom: 0px !important;}”]指挥\n呂嘉[/vc_column_text][vc_single_image image=”18439″ img_size=”75×75″ onclick=”link_image”][/vc_column_inner][vc_column_inner width=”1/5″][vc_column_text el_class=”white mar-b5″ css=”.vc_custom_1561196439959{margin-bottom: 0px !important;padding-bottom: 0px !important;}”]小提琴\n莱纳‧霍内克[/vc_column_text][vc_single_image image=”18436″ img_size=”75×75″ onclick=”link_image”][/vc_column_inner][vc_column_inner width=”1/5″][/vc_column_inner][vc_column_inner width=”1/5″][/vc_column_inner][vc_column_inner width=”1/5″][/vc_column_inner][/vc_row_inner][vc_column_text]声名显赫的维也纳爱乐乐团是世界乐迷心目中的“天团”，本乐季我们有幸邀请到“天团”的领军人物，乐团首席霍内克先生，他将携自己那把1709年的斯特拉迪瓦里小提琴，为广大乐迷带来两场贝多芬与莫扎特作品音乐会。名家、名琴、名曲，必将令乐迷朋友们大饱耳福！第一场音乐会为“贝多芬专场”，三首曲目可谓涵盖了贝多芬三个主要创作领域的“至尊经典”：贝多芬一生唯一歌剧《费德里奥》的序曲，“世界四大小提琴协奏”之一的《D大调小提琴协奏曲》，以及扣响“命运之门”的《第五交响曲》。 \n演出时间连中场休息约1小时45分[/vc_column_text][/vc_column][vc_column width=”1/3″][vc_column_text el_class=”white”] \n票價\n票价：澳门币250 / 200 / 150元[/vc_column_text][vc_btn title=”演前导赏(取消)” style=”outline-custom” outline_custom_color=”#d1ae6d” outline_custom_hover_background=”#d1ae6d” outline_custom_hover_text=”#ffffff” size=”lg” align=”center” button_block=”true” link=”url:https%3A%2F%2Fwww.om-macau.org%2Fzh-hans%2F%25E5%2591%25BD%25E8%25BF%2590%25E4%25BA%25A4%25E5%2593%258D%25E4%25B9%2590%25E6%25BC%2594%25E5%2589%258D%25E5%25AF%25BC%25E8%25B5%258F%2F||target:%20_blank|”][vc_column_text el_class=”white”] \n分享\n[/vc_column_text][vc_row_inner css=”.vc_custom_1468908085120{margin-top: 35px !important;}”][vc_column_inner width=”1/2″][vc_icon icon_fontawesome=”fa fa-users” color=”custom” background_style=”rounded-outline” background_color=”black” size=”xl” align=”center” custom_color=”#d1ae6d” css=”.vc_custom_1560856049604{margin-bottom: 0px !important;border-bottom-width: 0px !important;padding-bottom: 0px !important;}” link=”url:https%3A%2F%2Fwww.om-macau.org%2Fzh-hans%2F%25e6%2588%2590%25e4%25b8%25ba%25e4%25b9%2590%25e5%259b%25a2%25e4%25b9%258b%25e5%258f%258b%2F||target:%20_blank|”][vc_column_text] \n申请成为乐团之友 \n[/vc_column_text][/vc_column_inner][vc_column_inner width=”1/2″][vc_icon icon_fontawesome=”fa fa-gift” color=”custom” background_style=”rounded-outline” background_color=”black” size=”xl” align=”center” custom_color=”#d1ae6d” css=”.vc_custom_1529900967965{margin-bottom: 0px !important;border-bottom-width: 0px !important;padding-bottom: 0px !important;}” link=”url:http%3A%2F%2Fwww.om-macau.org%2F2018-19-%25E6%25A8%2582%25E5%25AD%25A3%2F||target:%20_blank|”][vc_column_text] \n购票优惠 \n[/vc_column_text][/vc_column_inner][/vc_row_inner][/vc_column][/vc_row] \n
URL:https://www.om-macau.org/zh-hans/event/%e5%91%bd%e8%bf%90%e4%ba%a4%e5%93%8d%e6%9b%b2/
LOCATION:澳門冼星海大馬路文化中心
GEO:22.1897888;113.5537849
X-APPLE-STRUCTURED-LOCATION;VALUE=URI;X-ADDRESS=澳門冼星海大馬路文化中心;X-APPLE-RADIUS=500;X-TITLE=澳門冼星海大馬路文化中心:geo:113.5537849,22.1897888
CATEGORIES:名家指挥
ATTACH;FMTTYPE=image/png:https://www.om-macau.org/wp-content/uploads/2019/06/21-Mar-cancel-ZN.png
END:VEVENT
END:VCALENDAR