BEGIN:VCALENDAR
VERSION:2.0
PRODID:-//Orquestra de Macau - ECPv4.6.12//NONSGML v1.0//EN
CALSCALE:GREGORIAN
METHOD:PUBLISH
X-WR-CALNAME:Orquestra de Macau
X-ORIGINAL-URL:https://www.om-macau.org/pt-pt/
X-WR-CALDESC:Events for Orquestra de Macau
BEGIN:VEVENT
DTSTART;TZID=UTC+8:20221215T200000
DTEND;TZID=UTC+8:20221215T213000
DTSTAMP:20260425T175653
CREATED:20221124T065918Z
LAST-MODIFIED:20221215T031513Z
UID:28941-1671134400-1671139800@www.om-macau.org
SUMMARY:A Música Fala : O que é o Concerto para Cordas
DESCRIPTION:[vc_row][vc_column width=”2/3″][vc_column_text]Data:15/12/2022　Quinta-feira 20:00 \nLocal : Igreja de S. Domingos \nMaestro : Zhao Xiaoou \nPrograma: \nBach: Concerto para 2 violinos em Ré menor\, BWV 1043\, 1º movimento\nHaydn: Concerto para Violoncelo N.º 2 em Ré Maior\, Hob. VIIb:2\, 2º e 3º movimentos\nMozart: Concerto para Violino N.º 3 em Sol Maior\, K. 216\, 3º movimento\nBruch: Concerto para Violino e Viola em Mi Menor Op. 88\, 1º movimento \n[/vc_column_text][vc_row_inner][vc_column_inner width=”1/5″][vc_column_text el_class=”white mar-b5″ css=”.vc_custom_1669273084672{margin-bottom: 0px !important;padding-bottom: 0px !important;}”]Conductor\nZhao Xiaoou[/vc_column_text][vc_single_image image=”29008″ img_size=”75×75″ onclick=”custom_link” img_link_target=”_blank” link=”#”][/vc_column_inner][/vc_row_inner][vc_column_text][/vc_column_text][vc_column_text]Aproximadamente 1 hora e 15 minutos\, sem intervalo[/vc_column_text][/vc_column][vc_column width=”1/3″][vc_column_text el_class=”white”] \nEntrada com bilhete gratuito\n【A partir das 30/11 12:00 am – 1/12 12:00 am】 pode ser feito o registo para obtenção de bilhetes por meio do link abaixo. A distribuição é limitada a no máximo de dois bilhetes por pessoa. O número de bilhetes é limitado e serão atribuídos por ordem de chegada. \n[/vc_column_text][vc_btn title=”Reserva de Bilhetes” style=”gradient-custom” gradient_custom_color_1=”#ff6e02″ gradient_custom_color_2=”#a34f10″ size=”lg” align=”center” button_block=”true” link=”url:http%3A%2F%2Fform.zh-sky.com%2Findex%3Ffid%3D331||target:%20_blank|” el_class=”custom-btn”][vc_column_text][/vc_column_text][vc_column_text el_class=”white”] \nDescarregar Informação\n[/vc_column_text][vc_row_inner css=”.vc_custom_1468908085120{margin-top: 35px !important;}”][vc_column_inner width=”1/2″][vc_icon icon_fontawesome=”fa fa-users” color=”custom” background_style=”rounded-outline” background_color=”black” size=”xl” align=”center” custom_color=”#d1ae6d” css=”.vc_custom_1669273104555{margin-bottom: 0px !important;border-bottom-width: 0px !important;padding-bottom: 0px !important;}” link=”||target:%20_blank|”][vc_column_text] \nPrograma de Casa \n[/vc_column_text][/vc_column_inner][vc_column_inner width=”1/4″][/vc_column_inner][vc_column_inner width=”1/4″][/vc_column_inner][vc_column_inner width=”1/4″][/vc_column_inner][/vc_row_inner][vc_column_text el_class=”white”] \n分享\n[/vc_column_text]var switchTo5x=true;\n\nstLight.options({"publisher":"2aa5e07a-cb9e-4ea9-bf8a-29c78bd35f7d"});var st_type="wordpress4.5.1";\n[vc_row_inner css=”.vc_custom_1468908085120{margin-top: 35px !important;}”][vc_column_inner width=”1/2″][vc_icon icon_fontawesome=”fa fa-users” color=”custom” background_style=”rounded-outline” background_color=”black” size=”xl” align=”center” custom_color=”#d1ae6d” css=”.vc_custom_1664351771803{margin-bottom: 0px !important;border-bottom-width: 0px !important;padding-bottom: 0px !important;}” link=”url:https%3A%2F%2Fwww.om-macau.org%2Fpt-pt%2Famigos-da-om%2F||target:%20_blank|”][vc_column_text] \nSeja amigo da OM \n[/vc_column_text][/vc_column_inner][vc_column_inner width=”1/2″][vc_icon icon_fontawesome=”fa fa-gift” color=”custom” background_style=”rounded-outline” background_color=”black” size=”xl” align=”center” custom_color=”#d1ae6d” css=”.vc_custom_1664351781995{margin-bottom: 0px !important;border-bottom-width: 0px !important;padding-bottom: 0px !important;}” link=”url:https%3A%2F%2Fwww.om-macau.org%2Fpt-pt%2Ftemporada-da-orquestra-de-macau-2022-21guia-de-reserva%2F||target:%20_blank|”][vc_column_text] \nBilhetes Especiais \n[/vc_column_text][/vc_column_inner][/vc_row_inner][/vc_column][/vc_row] \n
URL:https://www.om-macau.org/pt-pt/event/a-musica-fala-o-que-e-o-concerto-para-cordas/
LOCATION:板樟堂前地
GEO:22.1944857;113.5405503
X-APPLE-STRUCTURED-LOCATION;VALUE=URI;X-ADDRESS=板樟堂前地;X-APPLE-RADIUS=500;X-TITLE=板樟堂前地:geo:113.5405503,22.1944857
ATTACH;FMTTYPE=image/jpeg:https://www.om-macau.org/wp-content/uploads/2022/11/12.15-用音樂說音樂-OM-精选图片.jpg
END:VEVENT
END:VCALENDAR