BEGIN:VCALENDAR
VERSION:2.0
PRODID:-//Orquestra de Macau - ECPv4.6.12//NONSGML v1.0//EN
CALSCALE:GREGORIAN
METHOD:PUBLISH
X-WR-CALNAME:Orquestra de Macau
X-ORIGINAL-URL:https://www.om-macau.org/pt-pt/
X-WR-CALDESC:Events for Orquestra de Macau
BEGIN:VEVENT
DTSTART;TZID=UTC+8:20221210T140000
DTEND;TZID=UTC+8:20221210T173000
DTSTAMP:20260425T111401
CREATED:20221124T063107Z
LAST-MODIFIED:20221130T050915Z
UID:28927-1670680800-1670693400@www.om-macau.org
SUMMARY:Música em Patrimônio Mundial (CANCELAR)
DESCRIPTION:[vc_row][vc_column width=”2/3″][vc_column_text]In order to accommodate the staff deployment of the “Unforgettable melodies at the Ruins of St. Paul’s” concert\, the “Music at World Heritage” concert scheduled for December 10 at 14:00 and 16:15 will be cancelled. Sorry for any inconvenience.[/vc_column_text][vc_column_text]Date：10/12/2022 Sábado 14:00 & 16:15 \nLocal: Fundação Oriente \nCrianças menores de 6 anos não são permitidas. \nPrograma:\nPrimeira sessão(14:00)\nBach: Variações Goldberg\, BWV 988 (para Trio de Cordas) \nTrio de Cordas : Vit Polasek / Kiyeol Kim / Lu Yan \nAproximadamente 1 hora\, sem intervalo \n********************************************** \nSegunda sessão (16:15)\nMozart: Quarteto de Cordas N.º 20 em Ré Maior\, K. 499 \nQuarteto de Cordas :  Cao Hui / Liang Mu / Lu Xiao / Radim Navrátil \nMozart: Quarteto de Cordas N.º 22 em Si bemol Maior\, K. 589 \nQuarteto de Cordas : Guo Qing / Guo Kang / Li Yueying / Marko Klug \nAproximadamente 1 hora\, sem intervalo[/vc_column_text][/vc_column][vc_column width=”1/3″][vc_column_text el_class=”white”] \nEntrada com bilhete gratuito\n【A partir das 30/11 12:00 am – 1/12 12:00 am】pode ser feito o registo para obtenção de bilhetes por meio do link abaixo. A distribuição é limitada a no máximo de dois bilhetes por pessoa. O número de bilhetes é limitado e serão atribuídos por ordem de chegada.[/vc_column_text][vc_btn title=”Reserva de Bilhetes(14:00)” style=”gradient-custom” gradient_custom_color_1=”#ff6e02″ gradient_custom_color_2=”#a34f10″ size=”lg” align=”center” button_block=”true” link=”url:http%3A%2F%2Fform.zh-sky.com%2Findex%3Ffid%3D330||target:%20_blank|”][vc_btn title=”Reserva de Bilhetes(16:15)” style=”gradient-custom” gradient_custom_color_1=”#ff6e02″ gradient_custom_color_2=”#a34f10″ size=”lg” align=”center” button_block=”true” link=”url:http%3A%2F%2Fform.zh-sky.com%2Findex%3Ffid%3D329||target:%20_blank|”][vc_column_text el_class=”white”] \n分享\n[/vc_column_text]var switchTo5x=true;\n\nstLight.options({"publisher":"2aa5e07a-cb9e-4ea9-bf8a-29c78bd35f7d"});var st_type="wordpress4.5.1";\n[vc_row_inner css=”.vc_custom_1468908085120{margin-top: 35px !important;}”][vc_column_inner width=”1/2″][vc_icon icon_fontawesome=”fa fa-users” color=”custom” background_style=”rounded-outline” background_color=”black” size=”xl” align=”center” custom_color=”#d1ae6d” css=”.vc_custom_1665649747850{margin-bottom: 0px !important;border-bottom-width: 0px !important;padding-bottom: 0px !important;}” link=”url:https%3A%2F%2Fwww.om-macau.org%2Fpt-pt%2Famigos-da-om%2F||target:%20_blank|”][vc_column_text] \nSeja amigo da OM \n[/vc_column_text][/vc_column_inner][vc_column_inner width=”1/2″][vc_icon icon_fontawesome=”fa fa-gift” color=”custom” background_style=”rounded-outline” background_color=”black” size=”xl” align=”center” custom_color=”#d1ae6d” css=”.vc_custom_1665650466417{margin-bottom: 0px !important;border-bottom-width: 0px !important;padding-bottom: 0px !important;}” link=”url:https%3A%2F%2Fwww.om-macau.org%2Fpt-pt%2Fdescontos-e-ofertas-para-a-temporada-da-orquestra-de-macau-2022-23%2F||target:%20_blank|”][vc_column_text] \nBilhetes Especiais \n[/vc_column_text][/vc_column_inner][/vc_row_inner][/vc_column][/vc_row][vc_row][vc_column][/vc_column][/vc_row] \n
URL:https://www.om-macau.org/pt-pt/event/musica-em-patrimonio-mundial-3/
LOCATION:澳門白鴿巢前地十三號
GEO:22.1996097;113.5397046
X-APPLE-STRUCTURED-LOCATION;VALUE=URI;X-ADDRESS=澳門白鴿巢前地十三號;X-APPLE-RADIUS=500;X-TITLE=澳門白鴿巢前地十三號:geo:113.5397046,22.1996097
CATEGORIES:Música em Patrimônio Mundial
ATTACH;FMTTYPE=image/jpeg:https://www.om-macau.org/wp-content/uploads/2022/11/12.10-OM-世遺音樂會精选图片.jpg
END:VEVENT
END:VCALENDAR