BEGIN:VCALENDAR
VERSION:2.0
PRODID:-//Orquestra de Macau - ECPv4.6.12//NONSGML v1.0//EN
CALSCALE:GREGORIAN
METHOD:PUBLISH
X-WR-CALNAME:Orquestra de Macau
X-ORIGINAL-URL:https://www.om-macau.org/pt-pt/
X-WR-CALDESC:Events for Orquestra de Macau
BEGIN:VEVENT
DTSTART;TZID=UTC+8:20221119T200000
DTEND;TZID=UTC+8:20221119T213000
DTSTAMP:20260424T084704
CREATED:20220928T064532Z
LAST-MODIFIED:20240417T020107Z
UID:28248-1668888000-1668893400@www.om-macau.org
SUMMARY:Homenagem às Sinfonias de Beethoven (CANCELAR)
DESCRIPTION:[vc_row][vc_column width=”2/3″][vc_column_text]Due to the latest situation of epidemic in Macao\, the concert will be canceled. The details of ticket refund will be announced later\, for any enquiry\, please contact 285555555.[/vc_column_text][vc_column_text]Data:19/11/2022　 Sábado 20:00 \nLocal：Centro Cultural de Macau – Grande Auditório \nMaestro: Yu Lu \nPrograma:\nBeethoven: Sinfonia N.º 8 em Fá Maior\, Op. 93\nBeethoven: Sinfonia N.º 7 em lá maior\, Op. 92[/vc_column_text][vc_row_inner][vc_column_inner width=”1/5″][vc_column_text el_class=”white mar-b5″ css=”.vc_custom_1664349851154{margin-bottom: 0px !important;padding-bottom: 0px !important;}”]Maestro\nYu Lu[/vc_column_text][vc_single_image image=”28186″ img_size=”75×75″ onclick=”custom_link” img_link_target=”_blank” link=”#”][/vc_column_inner][/vc_row_inner][vc_column_text]Dirigida por Yu Lu\, maestro famoso internacionalmente\, a Orquestra de Macau interpretará dois clássicos de Beethoven\, nomeadamente\, a muito romântica Sinfonia nº 8 e a magnífica e enérgica Sinfonia nº 7\, que celebra o triunfo e a alegria do povo. \nAproximadamente 1 hora e 20 minutos\, incluindo um intervalo[/vc_column_text][/vc_column][vc_column width=”1/3″][vc_column_text]Os Bilhetes à venda na Bilheteira Online de Macau \nBilhetes：MOP 300/250/200/150[/vc_column_text][vc_btn title=”Compre já” style=”gradient-custom” gradient_custom_color_1=”#ff6e02″ size=”lg” align=”center” button_block=”true” link=”url:http%3A%2F%2Fwww.macauticket.com%2FTicketWeb%2FProgramInfo.aspx%3FproCode%3DP-003465%26c%3Den-us||target:%20_blank|”][vc_column_text]Os membros do público que tenham adquirido bilhetes para【Concerto de Abertura da Temporada do 40º Aniversário da Orquestra de Macau 2022-23 “Salto Para o Futuro”】\ndeverão apresentar um dos seguintes documentos antes de entrar no local do espectáculo: \n1. Comprovativo de conclusão do esquema vacinal primário das vacinas contra a COVID-19 (o esquema vacinal primário completo da vacina inactivada ou da vacina de mRNA\, constituída por 2 doses) há 14 dias (Código de Saúde com “moldura dourada”); \n2. Certificado de resultado negativo do teste de ácido nucleico de COVID-19\, realizado dentro de 48 horas. \n Os indivíduos que não apresentarem a documentação acima referida não poderão entrar no local e sem reembolso de bilhetes. Todos os membros do público deverão ser submetidos à medição da temperatura corporal antes de entrar no local do espectáculo. Será recusada a entrada a qualquer pessoa com febre ou sintomas respiratórios a qualquer momento ou que não apresente um dos documentos referidos.Todos os membros do público antes de entrar no local de espectáculo\, devem submeter-se à medição da temperatura corporal. Será recusada a entrada a qualer pessoa com febre ou sintomas respiratórias.[/vc_column_text][vc_column_text el_class=”white”] \nDescarregar Informação\n[/vc_column_text][vc_row_inner css=”.vc_custom_1468908085120{margin-top: 35px !important;}”][vc_column_inner width=”1/2″][vc_icon icon_fontawesome=”fa fa-users” color=”custom” background_style=”rounded-outline” background_color=”black” size=”xl” align=”center” custom_color=”#d1ae6d” css=”.vc_custom_1664349990197{margin-bottom: 0px !important;border-bottom-width: 0px !important;padding-bottom: 0px !important;}” link=”||target:%20_blank|”][vc_column_text] \nPrograma de Casa \n[/vc_column_text][/vc_column_inner][vc_column_inner width=”1/4″][/vc_column_inner][vc_column_inner width=”1/4″][/vc_column_inner][vc_column_inner width=”1/4″][/vc_column_inner][/vc_row_inner]var switchTo5x=true;\n\nstLight.options({"publisher":"2aa5e07a-cb9e-4ea9-bf8a-29c78bd35f7d"});var st_type="wordpress4.5.1";\n[vc_row_inner css=”.vc_custom_1468908085120{margin-top: 35px !important;}”][vc_column_inner width=”1/2″][vc_icon icon_fontawesome=”fa fa-users” color=”custom” background_style=”rounded-outline” background_color=”black” size=”xl” align=”center” custom_color=”#d1ae6d” css=”.vc_custom_1664350071980{margin-bottom: 0px !important;border-bottom-width: 0px !important;padding-bottom: 0px !important;}” link=”url:https%3A%2F%2Fwww.om-macau.org%2Fpt-pt%2Famigos-da-om%2F||target:%20_blank|”][vc_column_text] \nSeja amigo da OM \n[/vc_column_text][/vc_column_inner][vc_column_inner width=”1/2″][vc_icon icon_fontawesome=”fa fa-gift” color=”custom” background_style=”rounded-outline” background_color=”black” size=”xl” align=”center” custom_color=”#d1ae6d” css=”.vc_custom_1664949763321{margin-bottom: 0px !important;border-bottom-width: 0px !important;padding-bottom: 0px !important;}” link=”url:https%3A%2F%2Fwww.om-macau.org%2Fpt-pt%2Ftemporada-da-orquestra-de-macau-2022-21guia-de-reserva%2F||target:%20_blank|”][vc_column_text] \nBilhetes Especiais \n[/vc_column_text][/vc_column_inner][/vc_row_inner][/vc_column][/vc_row] \n
URL:https://www.om-macau.org/pt-pt/event/%e7%8e%8b%e8%80%85%e4%b9%8b%e8%81%b2-2/
LOCATION:澳門冼星海大馬路文化中心
GEO:22.1897888;113.5537849
X-APPLE-STRUCTURED-LOCATION;VALUE=URI;X-ADDRESS=澳門冼星海大馬路文化中心;X-APPLE-RADIUS=500;X-TITLE=澳門冼星海大馬路文化中心:geo:113.5537849,22.1897888
CATEGORIES:Clássicos eternos
ATTACH;FMTTYPE=image/jpeg:https://www.om-macau.org/wp-content/uploads/2022/09/小图.jpg
END:VEVENT
END:VCALENDAR