BEGIN:VCALENDAR
VERSION:2.0
PRODID:-//Orquestra de Macau - ECPv4.6.12//NONSGML v1.0//EN
CALSCALE:GREGORIAN
METHOD:PUBLISH
X-WR-CALNAME:Orquestra de Macau
X-ORIGINAL-URL:https://www.om-macau.org/pt-pt/
X-WR-CALDESC:Events for Orquestra de Macau
BEGIN:VEVENT
DTSTART;TZID=UTC+8:20200321T200000
DTEND;TZID=UTC+8:20200321T214500
DTSTAMP:20260419T200830
CREATED:20190620T034754Z
LAST-MODIFIED:20200223T093421Z
UID:18442-1584820800-1584827100@www.om-macau.org
SUMMARY:Sinfonia do Destino
DESCRIPTION:[vc_row][vc_column width=”2/3″][vc_column_text] \nEm resposta à persistência da infecção pelo novo tipo de coronavírus\, o Concerto do Sinfonia do Destino no dia 21 de Março serão cancelados\, a partir de hoje até 31 de Maio do corrente ano\, espectadores que compraram os bilhetes entrar em contacto com a Bilheteira Online de Macau para procedimentos de reembolso quando a epidemia for aliviada. \n[/vc_column_text][vc_column_text]Data: 21-03-2020  Sábado  Hora: 20:00 \nLocal: Centro Cultural de Macau – Grande Auditório \nMaestro／Lu Jia \nViolino／Rainer Honeck \nPrograma:\nBeethoven: Abertura da ópera Fidelio\, Op.72\nBeethoven: Concerto para Violino em Ré Maior\, Op. 61\nBeethoven: Sinfonia N.o 5 em Dó menor\, Op. 67[/vc_column_text][vc_row_inner][vc_column_inner width=”1/5″][vc_column_text el_class=”white mar-b5″ css=”.vc_custom_1561002524372{margin-bottom: 0px !important;padding-bottom: 0px !important;}”]Maestro\nLu Jia[/vc_column_text][vc_single_image image=”18439″ img_size=”75×75″ onclick=”link_image”][/vc_column_inner][vc_column_inner width=”1/5″][vc_column_text el_class=”white mar-b5″ css=”.vc_custom_1561197082892{margin-bottom: 0px !important;padding-bottom: 0px !important;}”]Violino\nRainer Honeck[/vc_column_text][vc_single_image image=”18436″ img_size=”75X75″ onclick=”link_image”][/vc_column_inner][vc_column_inner width=”1/5″][/vc_column_inner][vc_column_inner width=”1/5″][/vc_column_inner][vc_column_inner width=”1/5″][/vc_column_inner][/vc_row_inner][vc_column_text]A famosa Orquestra Filarmónica de Viena é uma ‘equipa de estrelas’ querida dos entusiastas da música em todo o mundo. Nesta temporada\, temos o orgulho de convidar o corifeu destas estrelas\, o Concertino Rainer Honeck\, com o seu violino Stradivari de 1709\, para actuar com a OM em dois concertos com obras de Beethoven e Mozart. Com um maestro de topo\, um violino famoso e obras icónicas\, esta será certamente uma experiência memorável para todos os melómanos. A Abrir\, o “Concerto de Beethoven”\, com três peças seleccionadas que abrangem possivelmente as obras mais clássicas de Beethoven: a abertura de sua única ópera\, Fidelio; um dos “quatro maiores concertos para violino do mundo”\, o Concerto para Violino em Ré Maior; e a sua célebre “sinfonia do destino”\, Sinfonia Nº 5 em dó menor. \nAproximadamente 1 hora e 45 minutos\, incluindo um intervalo[/vc_column_text][/vc_column][vc_column width=”1/3″][vc_column_text el_class=”white”] \nBilhetes\nMOP 250 / 200 / 150[/vc_column_text][vc_btn title=”Conversas Pré-Espectáculo (CANCELAR)” style=”outline-custom” outline_custom_color=”#d1ae6d” outline_custom_hover_background=”#d1ae6d” outline_custom_hover_text=”#ffffff” size=”lg” align=”center” button_block=”true” link=”url:https%3A%2F%2Fwww.om-macau.org%2Fpt-pt%2Fsinfonia-do-destino-conversas-pre-espectaculo%2F||target:%20_blank|”][vc_column_text el_class=”white”] \nPartilhar\n[/vc_column_text][vc_row_inner css=”.vc_custom_1468908085120{margin-top: 35px !important;}”][vc_column_inner width=”1/2″][vc_icon icon_fontawesome=”fa fa-users” color=”custom” background_style=”rounded-outline” background_color=”black” size=”xl” align=”center” custom_color=”#d1ae6d” css=”.vc_custom_1560856186161{margin-bottom: 0px !important;border-bottom-width: 0px !important;padding-bottom: 0px !important;}” link=”url:https%3A%2F%2Fwww.om-macau.org%2Fpt-pt%2F%25e7%2594%25b3%25e8%25ab%258b%25e6%2588%2590%25e7%2582%25ba%25e6%25a8%2582%25e5%259c%2598%25e4%25b9%258b%25e5%258f%258b%2F||target:%20_blank|”][vc_column_text] \nSeja amigo da OM \n[/vc_column_text][/vc_column_inner][vc_column_inner width=”1/2″][vc_icon icon_fontawesome=”fa fa-gift” color=”custom” background_style=”rounded-outline” background_color=”black” size=”xl” align=”center” custom_color=”#d1ae6d” css=”.vc_custom_1560856203518{margin-bottom: 0px !important;border-bottom-width: 0px !important;padding-bottom: 0px !important;}” link=”url:https%3A%2F%2Fwww.om-macau.org%2Fpt-pt%2F2019-2020%2F||target:%20_blank|”][vc_column_text] \nBilhetes Especiais \n[/vc_column_text][/vc_column_inner][/vc_row_inner][/vc_column][/vc_row] \n
URL:https://www.om-macau.org/pt-pt/event/sinfonia-do-destino/
LOCATION:澳門冼星海大馬路文化中心
GEO:22.1897888;113.5537849
X-APPLE-STRUCTURED-LOCATION;VALUE=URI;X-ADDRESS=澳門冼星海大馬路文化中心;X-APPLE-RADIUS=500;X-TITLE=澳門冼星海大馬路文化中心:geo:113.5537849,22.1897888
CATEGORIES:Maestros com Carisma
ATTACH;FMTTYPE=image/png:https://www.om-macau.org/wp-content/uploads/2019/06/21-Mar-cancel-PT.png
END:VEVENT
END:VCALENDAR