BEGIN:VCALENDAR
VERSION:2.0
PRODID:-//Orquestra de Macau - ECPv4.6.12//NONSGML v1.0//EN
CALSCALE:GREGORIAN
METHOD:PUBLISH
X-WR-CALNAME:Orquestra de Macau
X-ORIGINAL-URL:https://www.om-macau.org/pt-pt/
X-WR-CALDESC:Events for Orquestra de Macau
BEGIN:VEVENT
DTSTART;TZID=UTC+8:20200222T200000
DTEND;TZID=UTC+8:20200222T210000
DTSTAMP:20260423T091258
CREATED:20190621T060702Z
LAST-MODIFIED:20200206T102259Z
UID:18682-1582401600-1582405200@www.om-macau.org
SUMMARY:O Futuro da Música Clássica
DESCRIPTION:[vc_row][vc_column width=”2/3″][vc_column_text]Em resposta à persistência da infecção pelo novo tipo de coronavírus\, o Concerto do O Futuro da Música Clássica no dia 8 de Fevereiro serão cancelados.[/vc_column_text][vc_column_text]Data: 122-02-2020 Quinta-feira e Sexta-feira 8pm \nLocal: Universidade de Macau – Aula Magna da Universidade (N2) \nMaestro／Francis Kan \nPrograma:\nWagner: Prelúdio da ópera Os Mestres Cantores de Nuremberg\nSaint-Saëns: Dança Macabra\, Op. 40\nStravinsky: Suite N.o 1para Pequena Orquestra\nTchaikovsky: Fantasia “Francesca da Rimini”\, Op. 32\n[/vc_column_text][vc_row_inner][vc_column_inner width=”1/6″][vc_column_text el_class=”white mar-b5″ css=”.vc_custom_1561098053961{margin-bottom: 0px !important;padding-bottom: 0px !important;}”]Maestro\nFrancis Kan[/vc_column_text][vc_single_image image=”18643″ img_size=”75×75″ onclick=”link_image”][/vc_column_inner][vc_column_inner width=”3/6″][/vc_column_inner][vc_column_inner width=”1/6″][/vc_column_inner][vc_column_inner width=”1/6″][/vc_column_inner][/vc_row_inner][vc_column_text] \nOs jovens talentos musicais locais são o futuro do nosso desenvolvimento musical. Com os nossos músicos\, vamos apresentar aos apaixonados da música e aos estudantes locais\, orientação musical em locais específicos\, apoiando assim a construção de uma nova etapa musical para que a nova geração possa entrar firmemente na música através de acções concretas. \nA poesia e a música sempre andaram ligadas desde tempos imemoriais. A literatura tem sido uma fonte inesgotável de inspiração para fazer música. O concerto demonstra plenamente o poderoso estímulo da literatura nas obras musicais\, e também como a música sabe abordar os temas literários de uma forma inteligente e magistral. A ópera de Wagner\, Die Meistersinger\, reflecte sobre a relação entre tradição e inovação na criação artística através de uma história da antiga guilda de poetas e cantores na Alemanha. O poema sinfónico de Saint-Saëns\, Dança Macabra\, transforma a lenda francesa sobre o Halloween numa festa frenética onde os demónios dançam; e Francesca da Rimini de Tchaikovsky reconta vividamente o destino dos trágicos amantes da Divina Comédia de Dante e seus padecimentos após a morte. \nAproximadamente 1 hora\, sem intervalo \nSe estiver interessado em participar no espectáculo\, entre em contacto conosco até 8 de Outubro de 2019.\nTerão preferência os candidatos com as sguintes aptidões:\n1. Nível 8 do ABRSM ou superior\, ou nível equivalente concedido por outro conservatório;\n2. Vencedor de competições de instrumentos musicais;\n3. Ter um diploma de nível três ou superior ou frequentar o nível três ou os cursos referidos de interpretação do seu instrumento.\n[/vc_column_text][/vc_column][vc_column width=”1/3″][vc_column_text el_class=”white”] \nEntrada com bilhete gratuito\n[/vc_column_text][vc_column_text el_class=”white”] \nPartilhar\n[/vc_column_text][vc_row_inner css=”.vc_custom_1468908085120{margin-top: 35px !important;}”][vc_column_inner width=”1/2″][vc_icon icon_fontawesome=”fa fa-users” color=”custom” background_style=”rounded-outline” background_color=”black” size=”xl” align=”center” custom_color=”#d1ae6d” css=”.vc_custom_1560856186161{margin-bottom: 0px !important;border-bottom-width: 0px !important;padding-bottom: 0px !important;}” link=”url:https%3A%2F%2Fwww.om-macau.org%2Fpt-pt%2F%25e7%2594%25b3%25e8%25ab%258b%25e6%2588%2590%25e7%2582%25ba%25e6%25a8%2582%25e5%259c%2598%25e4%25b9%258b%25e5%258f%258b%2F||target:%20_blank|”][vc_column_text] \nSeja amigo da OM \n[/vc_column_text][/vc_column_inner][vc_column_inner width=”1/2″][vc_icon icon_fontawesome=”fa fa-gift” color=”custom” background_style=”rounded-outline” background_color=”black” size=”xl” align=”center” custom_color=”#d1ae6d” css=”.vc_custom_1560856203518{margin-bottom: 0px !important;border-bottom-width: 0px !important;padding-bottom: 0px !important;}” link=”url:https%3A%2F%2Fwww.om-macau.org%2Fpt-pt%2F2019-2020%2F||target:%20_blank|”][vc_column_text] \nBilhetes Especiais \n[/vc_column_text][/vc_column_inner][/vc_row_inner][/vc_column][/vc_row] \n
URL:https://www.om-macau.org/pt-pt/event/o-futuro-da-musica-classica-4/
LOCATION:澳门氹仔大学大马路
GEO:22.1498442;113.5686306
X-APPLE-STRUCTURED-LOCATION;VALUE=URI;X-ADDRESS=澳门氹仔大学大马路;X-APPLE-RADIUS=500;X-TITLE=澳门氹仔大学大马路:geo:113.5686306,22.1498442
CATEGORIES:Música para o Futuro,Música para Todos
ATTACH;FMTTYPE=image/png:https://www.om-macau.org/wp-content/uploads/2019/06/22-Feb-cancel-PT.png
END:VEVENT
END:VCALENDAR