BEGIN:VCALENDAR
VERSION:2.0
PRODID:-//Orquestra de Macau - ECPv4.6.12//NONSGML v1.0//EN
CALSCALE:GREGORIAN
METHOD:PUBLISH
X-WR-CALNAME:Orquestra de Macau
X-ORIGINAL-URL:https://www.om-macau.org/pt-pt/
X-WR-CALDESC:Events for Orquestra de Macau
BEGIN:VEVENT
DTSTART;TZID=UTC+8:20200208T200000
DTEND;TZID=UTC+8:20200208T210000
DTSTAMP:20260425T221413
CREATED:20190621T065746Z
LAST-MODIFIED:20200206T101300Z
UID:18701-1581192000-1581195600@www.om-macau.org
SUMMARY:Quando a Música Fala
DESCRIPTION:[vc_row][vc_column width=”2/3″][vc_column_text]Em resposta à persistência da infecção pelo novo tipo de coronavírus\, o Concerto do Quando a Música Fala no dia 8 de Fevereiro serão cancelados.[/vc_column_text][vc_column_text]Data: 08-02-2020 Sábado 8pm \nLocal: Universidade de Macau / Aula Magna da Universidade – N2 \nLíngua: Mandarim \nMaestro／Lu Jia \nPrograma:\nBeethoven: Abertura “Leonore”\, N.o 3\, Op. 72b\nBeethoven: Abertura “Prometheus”\n[/vc_column_text][vc_row_inner][vc_column_inner width=”1/6″][vc_column_text el_class=”white mar-b5″ css=”.vc_custom_1561100640895{margin-bottom: 0px !important;padding-bottom: 0px !important;}”]Maestro\nLu Jia[/vc_column_text][vc_single_image image=”18240″ img_size=”75×75″ onclick=”link_image”][/vc_column_inner][vc_column_inner width=”3/6″][/vc_column_inner][vc_column_inner width=”1/6″][/vc_column_inner][vc_column_inner width=”1/6″][/vc_column_inner][/vc_row_inner][vc_column_text] \nHoje\, as pessoas conhecem Beethoven principalmente através de sua música orquestral\, mas a música teatral sempre foi uma parte importante de suas actividades artísticas\, tanto que ele considerava a sua própria ópera como o seu “filho preferido”. Beethoven escreveu quatro versões diferentes para a abertura da ópera. Além disso\, também escreveu aberturas e partituras para muitas produções teatrais e de dança\, muitas das quais se tornaram clássicos\, ampla e regularmente apresentados em salas de concerto. A Abertura para Prometeu é um desses exemplos. Venha acompanhar o director musical da OM\, Lu Jia\, e explorar a jornada de Beethoven na música teatral. \nAproximadamente 1 hora\, sem intervalo[/vc_column_text][/vc_column][vc_column width=”1/3″][vc_column_text el_class=”white”] \nEntrada com bilhete gratuito\n[/vc_column_text][vc_column_text el_class=”white”] \nPartilhar\n[/vc_column_text][vc_row_inner css=”.vc_custom_1468908085120{margin-top: 35px !important;}”][vc_column_inner width=”1/2″][vc_icon icon_fontawesome=”fa fa-users” color=”custom” background_style=”rounded-outline” background_color=”black” size=”xl” align=”center” custom_color=”#d1ae6d” css=”.vc_custom_1560856186161{margin-bottom: 0px !important;border-bottom-width: 0px !important;padding-bottom: 0px !important;}” link=”url:https%3A%2F%2Fwww.om-macau.org%2Fpt-pt%2F%25e7%2594%25b3%25e8%25ab%258b%25e6%2588%2590%25e7%2582%25ba%25e6%25a8%2582%25e5%259c%2598%25e4%25b9%258b%25e5%258f%258b%2F||target:%20_blank|”][vc_column_text] \nSeja amigo da OM \n[/vc_column_text][/vc_column_inner][vc_column_inner width=”1/2″][vc_icon icon_fontawesome=”fa fa-gift” color=”custom” background_style=”rounded-outline” background_color=”black” size=”xl” align=”center” custom_color=”#d1ae6d” css=”.vc_custom_1560856203518{margin-bottom: 0px !important;border-bottom-width: 0px !important;padding-bottom: 0px !important;}” link=”url:https%3A%2F%2Fwww.om-macau.org%2Fpt-pt%2F2019-2020%2F||target:%20_blank|”][vc_column_text] \nBilhetes Especiais \n[/vc_column_text][/vc_column_inner][/vc_row_inner][/vc_column][/vc_row] \n
URL:https://www.om-macau.org/pt-pt/event/quando-a-musica-fala-3/
LOCATION:澳門氹仔大學大馬路
GEO:22.1498442;113.5686306
X-APPLE-STRUCTURED-LOCATION;VALUE=URI;X-ADDRESS=澳門氹仔大學大馬路;X-APPLE-RADIUS=500;X-TITLE=澳門氹仔大學大馬路:geo:113.5686306,22.1498442
CATEGORIES:Música para o Futuro,Música para Todos
ATTACH;FMTTYPE=image/png:https://www.om-macau.org/wp-content/uploads/2019/06/8-Feb-cancel-PT.png
END:VEVENT
END:VCALENDAR