BEGIN:VCALENDAR
VERSION:2.0
PRODID:-//Orquestra de Macau - ECPv4.6.12//NONSGML v1.0//EN
CALSCALE:GREGORIAN
METHOD:PUBLISH
X-WR-CALNAME:Orquestra de Macau
X-ORIGINAL-URL:https://www.om-macau.org
X-WR-CALDESC:Events for Orquestra de Macau
BEGIN:VEVENT
DTSTART;TZID=UTC+8:20200321T200000
DTEND;TZID=UTC+8:20200321T214500
DTSTAMP:20260419T195043
CREATED:20190620T034138Z
LAST-MODIFIED:20200223T092821Z
UID:18435-1584820800-1584827100@www.om-macau.org
SUMMARY:命運交響曲
DESCRIPTION:[vc_row][vc_column width=”2/3″][vc_column_text]因應新型冠狀病毒感染疫情持續，3月21日《命運交響曲》將取消，已購買節目門票的觀眾可在疫情緩解時聯繫澳門售票網辦理退票手續，退票日期由即日起至5月31日。[/vc_column_text][vc_column_text]日期：2020年03月21日  星期六  時間：晚上八時 \n地點：澳門文化中心綜合劇院 \n指揮／呂嘉 \n小提琴／萊納‧霍內克 \n曲目：\n貝多芬：歌劇《費德里奧》序曲 　作品 72\n貝多芬：D大調小提琴協奏曲　作品 61\n貝多芬：C小調第五交響曲　作品 67[/vc_column_text][vc_row_inner][vc_column_inner width=”1/5″][vc_column_text el_class=”white mar-b5″ css=”.vc_custom_1528628667812{margin-bottom: 0px !important;padding-bottom: 0px !important;}”]指揮\n呂嘉[/vc_column_text][vc_single_image image=”18439″ img_size=”75×75″ onclick=”link_image”][/vc_column_inner][vc_column_inner width=”1/5″][vc_column_text el_class=”white mar-b5″ css=”.vc_custom_1561196633361{margin-bottom: 0px !important;padding-bottom: 0px !important;}”]小提琴\n萊納‧霍內克[/vc_column_text][vc_single_image image=”18436″ img_size=”75×75″ onclick=”link_image”][/vc_column_inner][vc_column_inner width=”1/5″][/vc_column_inner][vc_column_inner width=”1/5″][/vc_column_inner][vc_column_inner width=”1/5″][/vc_column_inner][/vc_row_inner][vc_column_text]聲名顯赫的維也納愛樂樂團是世界樂迷心目中的“天團”，本樂季我們有幸邀請到“天團”的領軍人物，樂團首席霍內克先生，他將攜自己那把1709年的斯特拉迪瓦裡小提琴，為廣大樂迷帶來兩場貝多芬與莫札特作品音樂會。名家、名琴、名曲，必將令樂迷朋友們大飽耳福！第一場音樂會為“貝多芬專場”，三首曲目可謂涵蓋了貝多芬三個主要創作領域的“至尊經典”：貝多芬一生唯一歌劇《費德里奧》的序曲，“世界四大小提琴協奏”之一的《D大調小提琴協奏曲》，以及扣響“命運之門”的《第五交響曲》。 \n演出時間連中場休息約1小時45分[/vc_column_text][/vc_column][vc_column width=”1/3″][vc_column_text el_class=”white”] \n票價\n澳門幣250 / 200 / 150元[/vc_column_text][vc_btn title=”演前導賞 (取消)” style=”outline-custom” outline_custom_color=”#d1ae6d” outline_custom_hover_background=”#d1ae6d” outline_custom_hover_text=”#ffffff” size=”lg” align=”center” button_block=”true” link=”url:https%3A%2F%2Fwww.om-macau.org%2F%25E5%2591%25BD%25E9%2581%258B%25E4%25BA%25A4%25E9%259F%25BF%25E6%25A8%2582%25E6%25BC%2594%25E5%2589%258D%25E5%25B0%258E%25E8%25B3%259E%2F||target:%20_blank|”][vc_column_text el_class=”white”] \n分享\n[/vc_column_text][vc_row_inner css=”.vc_custom_1468908085120{margin-top: 35px !important;}”][vc_column_inner width=”1/2″][vc_icon icon_fontawesome=”fa fa-users” color=”custom” background_style=”rounded-outline” background_color=”black” size=”xl” align=”center” custom_color=”#d1ae6d” css=”.vc_custom_1500720550746{margin-bottom: 0px !important;border-bottom-width: 0px !important;padding-bottom: 0px !important;}” link=”url:http%3A%2F%2Fwww.om-macau.org%2F%25E7%2594%25B3%25E8%25AB%258B%25E6%2588%2590%25E7%2582%25BA%25E6%25A8%2582%25E5%259C%2598%25E4%25B9%258B%25E5%258F%258B%2F||target:%20_blank|”][vc_column_text] \n申請成為樂團之友 \n[/vc_column_text][/vc_column_inner][vc_column_inner width=”1/2″][vc_icon icon_fontawesome=”fa fa-gift” color=”custom” background_style=”rounded-outline” background_color=”black” size=”xl” align=”center” custom_color=”#d1ae6d” css=”.vc_custom_1560924343973{margin-bottom: 0px !important;border-bottom-width: 0px !important;padding-bottom: 0px !important;}” link=”url:https%3A%2F%2Fwww.om-macau.org%2F2019-20-%25e6%25a8%2582%25e5%25ad%25a3%2F||target:%20_blank|”][vc_column_text] \n購票優惠 \n[/vc_column_text][/vc_column_inner][/vc_row_inner][/vc_column][/vc_row] \n
URL:https://www.om-macau.org/event/%e5%91%bd%e9%81%8b%e4%ba%a4%e9%9f%bf%e6%9b%b2/
LOCATION:澳門冼星海大馬路文化中心
GEO:22.1897888;113.5537849
X-APPLE-STRUCTURED-LOCATION;VALUE=URI;X-ADDRESS=澳門冼星海大馬路文化中心;X-APPLE-RADIUS=500;X-TITLE=澳門冼星海大馬路文化中心:geo:113.5537849,22.1897888
CATEGORIES:名家指揮
ATTACH;FMTTYPE=image/png:https://www.om-macau.org/wp-content/uploads/2019/06/21-Mar-cancel-CN.png
END:VEVENT
END:VCALENDAR