BEGIN:VCALENDAR
VERSION:2.0
PRODID:-//Orquestra de Macau - ECPv4.6.12//NONSGML v1.0//EN
CALSCALE:GREGORIAN
METHOD:PUBLISH
X-WR-CALNAME:Orquestra de Macau
X-ORIGINAL-URL:https://www.om-macau.org
X-WR-CALDESC:Events for Orquestra de Macau
BEGIN:VEVENT
DTSTART;TZID=UTC+8:20200313T200000
DTEND;TZID=UTC+8:20200313T210000
DTSTAMP:20260420T063343
CREATED:20190620T023320Z
LAST-MODIFIED:20200223T091627Z
UID:18410-1584129600-1584133200@www.om-macau.org
SUMMARY:蛻變貝多芬
DESCRIPTION:[vc_row][vc_column width=”2/3″][vc_column_text]因應新型冠狀病毒感染疫情持續，3月13日《蛻變貝多芬》音樂會將取消。[/vc_column_text][vc_column_text]日期：2020年03月13日 星期五  時間：晚上八時 \n地點：玫瑰堂 \n指揮／呂嘉 \n曲目：\n貝多芬：D大調第二交響曲　作品 36\n貝多芬：F大調第八交響曲　作品 93[/vc_column_text][vc_row_inner][vc_column_inner width=”1/6″][vc_column_text el_class=”white mar-b5″ css=”.vc_custom_1528628667812{margin-bottom: 0px !important;padding-bottom: 0px !important;}”]指揮\n呂嘉[/vc_column_text][vc_single_image image=”18411″ img_size=”75×75″ onclick=”link_image”][/vc_column_inner][vc_column_inner width=”1/6″][/vc_column_inner][vc_column_inner width=”1/6″][/vc_column_inner][/vc_row_inner][vc_column_text]貝多芬筆下的九部交響曲無疑是全人類音樂藝術的至尊瑰寶，繼2018年重磅敬獻的“貝九”之後，我們將在本樂季通過多場音樂會陸續奉上貝多芬的其餘八首交響曲。本場音樂會上演的《第二交響曲》和《第八交響曲》，恰好是貝多芬交響曲中相對“低調”的兩部，風格和氣質不同於我們所熟悉的那個“英雄貝多芬”，從中可窺見其音樂別樣的性格側面與表現維度。 \n演出時間約1小時，不設中場休息[/vc_column_text][/vc_column][vc_column width=”1/3″][vc_column_text el_class=”white”] \n票價\n憑票免費入場\n門票於演出前一小時在現場派發，每人每次限取兩張，派完即止。\n樂團之友預留門票消息將通過官方微信及電郵公佈。[/vc_column_text][vc_btn title=”演前導賞（青少年之友專場）” style=”outline-custom” outline_custom_color=”#d1ae6d” outline_custom_hover_background=”#d1ae6d” outline_custom_hover_text=”#ffffff” size=”lg” align=”center” button_block=”true” link=”url:https%3A%2F%2Fwww.om-macau.org%2F%25E8%259B%25BB%25E8%25AE%258A%25E8%25B2%259D%25E5%25A4%259A%25E8%258A%25AC%25E6%25BC%2594%25E5%2589%258D%25E5%25B0%258E%25E8%25B3%259E-%25E9%259D%2592%25E5%25B0%2591%25E5%25B9%25B4%25E4%25B9%258B%25E5%258F%258B%25E5%25B0%2588%25E5%25A0%25B4%2F||target:%20_blank|”][vc_btn title=”公開綵排” style=”outline-custom” outline_custom_color=”#d1ae6d” outline_custom_hover_background=”#d1ae6d” outline_custom_hover_text=”#ffffff” size=”lg” align=”center” button_block=”true” link=”url:https%3A%2F%2Fwww.om-macau.org%2F%25E8%259B%25BB%25E8%25AE%258A%25E8%25B2%259D%25E5%25A4%259A%25E8%258A%25AC%25E5%2585%25AC%25E9%2596%258B%25E5%25BD%25A9%25E6%258E%2592%2F||target:%20_blank|”][vc_column_text el_class=”white”] \n分享\n[/vc_column_text][vc_row_inner css=”.vc_custom_1468908085120{margin-top: 35px !important;}”][vc_column_inner width=”1/2″][vc_icon icon_fontawesome=”fa fa-users” color=”custom” background_style=”rounded-outline” background_color=”black” size=”xl” align=”center” custom_color=”#d1ae6d” css=”.vc_custom_1560855994289{margin-bottom: 0px !important;border-bottom-width: 0px !important;padding-bottom: 0px !important;}” link=”url:https%3A%2F%2Fwww.om-macau.org%2F%25e6%2588%2590%25e7%2582%25ba%25e6%25a8%2582%25e5%259c%2598%25e4%25b9%258b%25e5%258f%258b%2F||target:%20_blank|”][vc_column_text] \n申請成為樂團之友 \n[/vc_column_text][/vc_column_inner][vc_column_inner width=”1/2″][vc_icon icon_fontawesome=”fa fa-gift” color=”custom” background_style=”rounded-outline” background_color=”black” size=”xl” align=”center” custom_color=”#d1ae6d” css=”.vc_custom_1560856015117{margin-bottom: 0px !important;border-bottom-width: 0px !important;padding-bottom: 0px !important;}” link=”url:https%3A%2F%2Fwww.om-macau.org%2F2019-20-%25e6%25a8%2582%25e5%25ad%25a3%2F||target:%20_blank|”][vc_column_text] \n購票優惠 \n[/vc_column_text][/vc_column_inner][/vc_row_inner][/vc_column][/vc_row] \n
URL:https://www.om-macau.org/event/%e8%9b%bb%e8%ae%8a%e8%b2%9d%e5%a4%9a%e8%8a%ac/
LOCATION:板樟堂前地
GEO:22.1944857;113.5405503
X-APPLE-STRUCTURED-LOCATION;VALUE=URI;X-ADDRESS=板樟堂前地;X-APPLE-RADIUS=500;X-TITLE=板樟堂前地:geo:113.5405503,22.1944857
CATEGORIES:名家指揮
ATTACH;FMTTYPE=image/png:https://www.om-macau.org/wp-content/uploads/2019/06/13-Mar-cancel-CN.png
END:VEVENT
END:VCALENDAR