BEGIN:VCALENDAR
VERSION:2.0
PRODID:-//Orquestra de Macau - ECPv4.6.12//NONSGML v1.0//EN
CALSCALE:GREGORIAN
METHOD:PUBLISH
X-WR-CALNAME:Orquestra de Macau
X-ORIGINAL-URL:https://www.om-macau.org
X-WR-CALDESC:Events for Orquestra de Macau
BEGIN:VEVENT
DTSTART;TZID=UTC+8:20200229T200000
DTEND;TZID=UTC+8:20200229T213000
DTSTAMP:20260422T231854
CREATED:20190620T020154Z
LAST-MODIFIED:20200206T102513Z
UID:18404-1583006400-1583011800@www.om-macau.org
SUMMARY:嬉遊時光
DESCRIPTION:[vc_row][vc_column width=”2/3″][vc_column_text]因應新型冠狀病毒感染疫情持續，2月29日《嬉遊時光》將取消，已購買節目門票的觀眾可在疫情緩解時聯繫澳門售票網辦理退票手續，退票日期由即日起至5月31日。[/vc_column_text][vc_column_text]日期：2020年02月29日 星期六 晚上8時 \n地點：崗頂劇院 \n小提琴：王佳婧，李娜，韋特‧普拉錫格\n中提琴：蕭凡，蔡雷\n大提琴：呂佳，張太陽 \n曲目：\n莫札特：降Ｅ大調嬉遊曲　K. 563\n舒曼：降E大調鋼琴五重奏　作品 44[/vc_column_text][vc_row_inner][vc_column_inner width=”1/6″][/vc_column_inner][vc_column_inner width=”3/6″][/vc_column_inner][vc_column_inner width=”1/6″][/vc_column_inner][vc_column_inner width=”1/6″][/vc_column_inner][/vc_row_inner][vc_column_text] \n在西方音樂的各種類型中，“室內樂”有著最為多樣的樂器組合形式，因而室內樂往往成為作曲家進行風格探索與藝術革新的試驗場，本場音樂會呈獻的兩首作品即是如此：莫札特的K. 563名為嬉遊曲，實為一部深沉老道的弦樂三重奏，與那個時代的大多數嬉遊曲迥然有別；舒曼的作品 44則通過將鋼琴與弦樂四重奏相結合，而在歷史上開創了鋼琴五重奏的一種全新類型，對後世產生深遠影響。敬請各位聽眾在迷人的樂聲中，重識偉大音樂家破舊立新的創造天才。 \n演出時間約1小時20分，不設中場休息[/vc_column_text][/vc_column][vc_column width=”1/3″][vc_column_text el_class=”white”] \n票價\n澳門幣120/100 \n[/vc_column_text][vc_btn title=”樂師交流會” style=”outline-custom” outline_custom_color=”#d1ae6d” outline_custom_hover_background=”#d1ae6d” outline_custom_hover_text=”#ffffff” size=”lg” align=”center” button_block=”true” link=”url:https%3A%2F%2Fwww.om-macau.org%2F%25E5%25AC%2589%25E6%25B8%25B8%25E6%2599%2582%25E5%2585%2589%25E6%25A8%2582%25E5%25B8%25AB%25E4%25BA%25A4%25E6%25B5%2581%25E6%259C%2583%2F||target:%20_blank|”][vc_column_text el_class=”white”] \n分享\n[/vc_column_text][vc_row_inner css=”.vc_custom_1468908085120{margin-top: 35px !important;}”][vc_column_inner width=”1/2″][vc_icon icon_fontawesome=”fa fa-users” color=”custom” background_style=”rounded-outline” background_color=”black” size=”xl” align=”center” custom_color=”#d1ae6d” css=”.vc_custom_1560855994289{margin-bottom: 0px !important;border-bottom-width: 0px !important;padding-bottom: 0px !important;}” link=”url:https%3A%2F%2Fwww.om-macau.org%2F%25e6%2588%2590%25e7%2582%25ba%25e6%25a8%2582%25e5%259c%2598%25e4%25b9%258b%25e5%258f%258b%2F||target:%20_blank|”][vc_column_text] \n申請成為樂團之友 \n[/vc_column_text][/vc_column_inner][vc_column_inner width=”1/2″][vc_icon icon_fontawesome=”fa fa-gift” color=”custom” background_style=”rounded-outline” background_color=”black” size=”xl” align=”center” custom_color=”#d1ae6d” css=”.vc_custom_1560856015117{margin-bottom: 0px !important;border-bottom-width: 0px !important;padding-bottom: 0px !important;}” link=”url:https%3A%2F%2Fwww.om-macau.org%2F2019-20-%25e6%25a8%2582%25e5%25ad%25a3%2F||target:%20_blank|”][vc_column_text] \n購票優惠 \n[/vc_column_text][/vc_column_inner][/vc_row_inner][/vc_column][/vc_row] \n
URL:https://www.om-macau.org/event/%e5%ac%89%e9%81%8a%e6%99%82%e5%85%89/
LOCATION:Largo de Santo Agostinho
GEO:22.1922848;113.5380585
X-APPLE-STRUCTURED-LOCATION;VALUE=URI;X-ADDRESS=Largo de Santo Agostinho;X-APPLE-RADIUS=500;X-TITLE=Largo de Santo Agostinho:geo:113.5380585,22.1922848
CATEGORIES:歷遊室內樂
ATTACH;FMTTYPE=image/png:https://www.om-macau.org/wp-content/uploads/2019/06/29-Feb-cancel-CN.png
END:VEVENT
END:VCALENDAR