BEGIN:VCALENDAR
VERSION:2.0
PRODID:-//Orquestra de Macau - ECPv4.6.12//NONSGML v1.0//EN
CALSCALE:GREGORIAN
METHOD:PUBLISH
X-WR-CALNAME:Orquestra de Macau
X-ORIGINAL-URL:https://www.om-macau.org
X-WR-CALDESC:Events for Orquestra de Macau
BEGIN:VEVENT
DTSTART;TZID=UTC+8:20200214T200000
DTEND;TZID=UTC+8:20200214T213000
DTSTAMP:20260425T140234
CREATED:20190620T090629Z
LAST-MODIFIED:20200206T101420Z
UID:18567-1581710400-1581715800@www.om-macau.org
SUMMARY:情人節音樂會—拉丁旋風
DESCRIPTION:[vc_row][vc_column width=”2/3″][vc_column_text]因應新型冠狀病毒感染疫情持續，2月14日《情人節音樂會—拉丁旋風》將取消，已購買節目門票的觀眾可在疫情緩解時聯繫澳門售票網辦理退票手續，退票日期由即日起至5月31日。[/vc_column_text][vc_column_text]日期：2020年02月14日 星期五 晚上8時 \n地點：澳門文化中心綜合劇院 \n手風琴／克塞妮亞‧薛多羅娃 \n指揮／麥可．奈斯托洛維奇 \n曲目：\n比才：《阿萊城姑娘》第一、二組曲選段\n皮亞佐拉：班多紐手風琴協奏曲《阿空加瓜》\n比才：《卡門》第一、二組曲選段\n[/vc_column_text][vc_row_inner][vc_column_inner width=”1/3″][vc_column_text el_class=”white mar-b5″ css=”.vc_custom_1561021973433{margin-bottom: 0px !important;padding-bottom: 0px !important;}”]指揮\n麥可．奈斯托洛維奇[/vc_column_text][vc_single_image image=”18560″ img_size=”75×75″ onclick=”link_image”][/vc_column_inner][vc_column_inner width=”1/3″][vc_column_text el_class=”white mar-b5″ css=”.vc_custom_1561021989540{margin-bottom: 0px !important;padding-bottom: 0px !important;}”]手風琴\n克塞妮亞‧薛多羅娃[/vc_column_text][vc_single_image image=”18562″ img_size=”75×75″ onclick=”link_image”][/vc_column_inner][vc_column_inner width=”1/3″][/vc_column_inner][/vc_row_inner][vc_column_text] \n手風琴是一件與民間傳統文化息息相關的樂器，是世界各地傳統音樂和通俗音樂中運用最爲廣泛的樂器之一，或許正是這種“接地氣”的特質使它長期難登古典音樂的“大雅之堂”。然而，進入20世紀之後，有越來越多的作曲家被它豐富而獨特的音色所吸引，將其作爲探索現代音樂先鋒之聲的重要資源，聲名顯赫的阿根廷作曲家皮亞佐拉更是以其雅俗共賞的音樂創作將手風琴連同風情萬種的探戈文化推向世界。本場音樂會上，被媒體譽爲“魅力無邊”的拉脫維亞美女手風琴演奏家薛多羅娃將帶來皮亞佐拉的《阿空加瓜》協奏曲，以及同樣充滿异域風味的《卡門》和《阿萊城的姑娘》，必將掀起一股熱情似火的拉丁旋風！ \n演出時間連中場休息約1小時30分[/vc_column_text][/vc_column][vc_column width=”1/3″][vc_column_text el_class=”white”] \n票價\n澳門幣250/200/150 \n  \n[/vc_column_text][vc_column_text el_class=”white”] \n分享\n[/vc_column_text][vc_row_inner css=”.vc_custom_1468908085120{margin-top: 35px !important;}”][vc_column_inner width=”1/2″][vc_icon icon_fontawesome=”fa fa-users” color=”custom” background_style=”rounded-outline” background_color=”black” size=”xl” align=”center” custom_color=”#d1ae6d” css=”.vc_custom_1560855994289{margin-bottom: 0px !important;border-bottom-width: 0px !important;padding-bottom: 0px !important;}” link=”url:https%3A%2F%2Fwww.om-macau.org%2F%25e6%2588%2590%25e7%2582%25ba%25e6%25a8%2582%25e5%259c%2598%25e4%25b9%258b%25e5%258f%258b%2F||target:%20_blank|”][vc_column_text] \n申請成為樂團之友 \n[/vc_column_text][/vc_column_inner][vc_column_inner width=”1/2″][vc_icon icon_fontawesome=”fa fa-gift” color=”custom” background_style=”rounded-outline” background_color=”black” size=”xl” align=”center” custom_color=”#d1ae6d” css=”.vc_custom_1560856015117{margin-bottom: 0px !important;border-bottom-width: 0px !important;padding-bottom: 0px !important;}” link=”url:https%3A%2F%2Fwww.om-macau.org%2F2019-20-%25e6%25a8%2582%25e5%25ad%25a3%2F||target:%20_blank|”][vc_column_text] \n購票優惠 \n[/vc_column_text][/vc_column_inner][/vc_row_inner][/vc_column][/vc_row] \n
URL:https://www.om-macau.org/event/%e6%83%85%e4%ba%ba%e7%af%80%e9%9f%b3%e6%a8%82%e6%9c%83-%e6%8b%89%e4%b8%81%e6%97%8b%e9%a2%a8/
LOCATION:Avenida Xian Xing Hai S/N\, NAPE\, Centro Cultural de Macau
GEO:22.1897888;113.5537849
X-APPLE-STRUCTURED-LOCATION;VALUE=URI;X-ADDRESS=Avenida Xian Xing Hai S/N NAPE Centro Cultural de Macau;X-APPLE-RADIUS=500;X-TITLE=Avenida Xian Xing Hai S/N\, NAPE\, Centro Cultural de Macau:geo:113.5537849,22.1897888
CATEGORIES:節慶樂聚
ATTACH;FMTTYPE=image/png:https://www.om-macau.org/wp-content/uploads/2019/06/14-Feb-cancel-CN.png
END:VEVENT
END:VCALENDAR