BEGIN:VCALENDAR
VERSION:2.0
PRODID:-//Orquestra de Macau - ECPv4.6.12//NONSGML v1.0//EN
CALSCALE:GREGORIAN
METHOD:PUBLISH
X-WR-CALNAME:Orquestra de Macau
X-ORIGINAL-URL:https://www.om-macau.org
X-WR-CALDESC:Events for Orquestra de Macau
BEGIN:VEVENT
DTSTART;TZID=UTC+8:20200208T200000
DTEND;TZID=UTC+8:20200208T210000
DTSTAMP:20260425T221348
CREATED:20190621T065746Z
LAST-MODIFIED:20200206T100903Z
UID:18691-1581192000-1581195600@www.om-macau.org
SUMMARY:呂嘉說樂
DESCRIPTION:[vc_row][vc_column width=”2/3″][vc_column_text]因應新型冠狀病毒感染疫情持續，2月8日《呂嘉說樂》音樂會將取消。[/vc_column_text][vc_column_text]日期：2020年02月08日 星期六 晚上8時 \n地點：澳門大學 /大學會堂 – N2 \n語言：普通話 \n指揮／呂嘉 \n曲目：\n貝多芬：《利奧諾拉》第三序曲　作品72b\n貝多芬：《普羅米修斯》序曲\n[/vc_column_text][vc_row_inner][vc_column_inner width=”1/6″][vc_column_text el_class=”white mar-b5″ css=”.vc_custom_1528628667812{margin-bottom: 0px !important;padding-bottom: 0px !important;}”]指揮\n呂嘉[/vc_column_text][vc_single_image image=”18240″ img_size=”75×75″ onclick=”link_image”][/vc_column_inner][vc_column_inner width=”3/6″][/vc_column_inner][vc_column_inner width=”1/6″][/vc_column_inner][vc_column_inner width=”1/6″][/vc_column_inner][/vc_row_inner][vc_column_text] \n今人對“樂聖”貝多芬的瞭解，主要通過其音樂會作品，但戲劇音樂在他的藝術追求中也始終佔據著重要地位。他一生雖只寫過一部歌劇，卻視之為自己“最珍愛的孩子”，僅是歌劇的序曲就先後寫了四個不同的版本。此外他還為多部話劇、舞劇譜寫序曲和配樂，亦是經典迭出，在如今的音樂會舞台上保持著極高的上演率，包括本場呈獻的《普羅米修斯》序曲。本場“呂嘉說樂”，就請跟隨我們的音樂總監一起，探尋貝多芬的戲劇音樂之路。 \n演出時間約1小時，不設中場休息[/vc_column_text][/vc_column][vc_column width=”1/3″][vc_column_text el_class=”white”] \n憑票免費入場\n[/vc_column_text][vc_btn title=”延伸活动” style=”outline-custom” outline_custom_color=”#d1ae6d” outline_custom_hover_background=”#d1ae6d” outline_custom_hover_text=”#ffffff” size=”lg” align=”center” button_block=”true” link=”||target:%20_blank|”][vc_btn title=”演前導賞” style=”outline-custom” outline_custom_color=”#d1ae6d” outline_custom_hover_background=”#d1ae6d” outline_custom_hover_text=”#ffffff” size=”lg” align=”center” button_block=”true” link=”||target:%20_blank|”][vc_column_text el_class=”white”] \n分享\n[/vc_column_text][vc_row_inner css=”.vc_custom_1468908085120{margin-top: 35px !important;}”][vc_column_inner width=”1/2″][vc_icon icon_fontawesome=”fa fa-users” color=”custom” background_style=”rounded-outline” background_color=”black” size=”xl” align=”center” custom_color=”#d1ae6d” css=”.vc_custom_1560855994289{margin-bottom: 0px !important;border-bottom-width: 0px !important;padding-bottom: 0px !important;}” link=”url:https%3A%2F%2Fwww.om-macau.org%2F%25e6%2588%2590%25e7%2582%25ba%25e6%25a8%2582%25e5%259c%2598%25e4%25b9%258b%25e5%258f%258b%2F||target:%20_blank|”][vc_column_text] \n申請成為樂團之友 \n[/vc_column_text][/vc_column_inner][vc_column_inner width=”1/2″][vc_icon icon_fontawesome=”fa fa-gift” color=”custom” background_style=”rounded-outline” background_color=”black” size=”xl” align=”center” custom_color=”#d1ae6d” css=”.vc_custom_1560856015117{margin-bottom: 0px !important;border-bottom-width: 0px !important;padding-bottom: 0px !important;}” link=”url:https%3A%2F%2Fwww.om-macau.org%2F2019-20-%25e6%25a8%2582%25e5%25ad%25a3%2F||target:%20_blank|”][vc_column_text] \n購票優惠 \n[/vc_column_text][/vc_column_inner][/vc_row_inner][/vc_column][vc_column][/vc_column][/vc_row] \n
URL:https://www.om-macau.org/event/%e5%91%82%e5%98%89%e8%aa%aa%e6%a8%82-3/
LOCATION:澳門氹仔大學大馬路
GEO:22.1498442;113.5686306
X-APPLE-STRUCTURED-LOCATION;VALUE=URI;X-ADDRESS=澳門氹仔大學大馬路;X-APPLE-RADIUS=500;X-TITLE=澳門氹仔大學大馬路:geo:113.5686306,22.1498442
CATEGORIES:愛音樂．愛分享,樂種未來
ATTACH;FMTTYPE=image/png:https://www.om-macau.org/wp-content/uploads/2019/06/8-Feb-cancel-1.png
END:VEVENT
END:VCALENDAR