BEGIN:VCALENDAR
VERSION:2.0
PRODID:-//Orquestra de Macau - ECPv4.6.12//NONSGML v1.0//EN
CALSCALE:GREGORIAN
METHOD:PUBLISH
X-WR-CALNAME:Orquestra de Macau
X-ORIGINAL-URL:https://www.om-macau.org/en/
X-WR-CALDESC:Events for Orquestra de Macau
BEGIN:VEVENT
DTSTART;TZID=UTC+8:20221119T200000
DTEND;TZID=UTC+8:20221119T213000
DTSTAMP:20260422T103621
CREATED:20220928T064532Z
LAST-MODIFIED:20240426T040959Z
UID:28240-1668888000-1668893400@www.om-macau.org
SUMMARY:Homage to Beethoven’s Symphonies (Cancel)
DESCRIPTION:[vc_row][vc_column width=”2/3″][vc_column_text]Due to the latest situation of epidemic in Macao\, the concert will be canceled. The details of ticket refund will be announced later\, for any enquiry\, please contact 285555555.[/vc_column_text][vc_column_text]Date:19/11/2022　 Saturday 20:00 \nVenue：Macao Cultural Centre Grand Auditorium \nConductor: Yu Lu \nProgramme:\nBeethoven: Symphony No. 8 in F Major\, Op. 93\nBeethoven: Symphony No. 7 in A Major\, Op. 92[/vc_column_text][vc_row_inner][vc_column_inner width=”1/5″][vc_column_text el_class=”white mar-b5″ css=”.vc_custom_1664949271483{margin-bottom: 0px !important;padding-bottom: 0px !important;}”]Conductor\nYu Lu[/vc_column_text][vc_single_image image=”28186″ img_size=”75×75″ onclick=”custom_link” img_link_target=”_blank” link=”#”][/vc_column_inner][/vc_row_inner][vc_column_text]Directed by internationally acclaimed conductor Yu Lu\, the Macao orchestra will perform two Beethoven’s classics\, namely the very romantic Symphony No. 8 and the magnificent and intense Symphony No. 7\, which celebrates the triumph and joy of the people. \nApproximately 1 hour and 20 minutes\, including one interval[/vc_column_text][/vc_column][vc_column width=”1/3″][vc_column_text]Tickets are available through the Macao Ticketing Network \nTickets：MOP 300/250/200/150 \n[/vc_column_text][vc_btn title=”Ticket Registration” style=”gradient-custom” gradient_custom_color_1=”#ff6e02″ size=”lg” align=”center” button_block=”true” link=”url:http%3A%2F%2Fwww.macauticket.com%2FTicketWeb%2FProgramInfo.aspx%3FproCode%3DP-003465%26c%3Den-us||target:%20_blank|”][vc_column_text]In accordance with the epidemic prevention guidelines of the Centre for Disease Control and Prevention\, members of the public must present one of the following documents before entering the venue: proof of completion of the whole course of the COVID-19 primary vaccination series (which includes two doses of the inactivated vaccine or the mRNA vaccine) for 14 days (as shown in the Macao Health Code with the “golden frame”) or a negative nucleic acid test result issued within 48 hours. Those who fail to provide the aforesaid documentation are not allowed to enter the venue. Tickets are not refundable.[/vc_column_text][vc_column_text el_class=”white”] \nDownload Information\n[/vc_column_text][vc_row_inner css=”.vc_custom_1468908085120{margin-top: 35px !important;}”][vc_column_inner width=”1/2″][vc_icon icon_fontawesome=”fa fa-users” color=”custom” background_style=”rounded-outline” background_color=”black” size=”xl” align=”center” custom_color=”#d1ae6d” css=”.vc_custom_1664347823199{margin-bottom: 0px !important;border-bottom-width: 0px !important;padding-bottom: 0px !important;}” link=”||target:%20_blank|”][vc_column_text] \nHouse Programme \n[/vc_column_text][/vc_column_inner][vc_column_inner width=”1/4″][/vc_column_inner][vc_column_inner width=”1/4″][/vc_column_inner][vc_column_inner width=”1/4″][/vc_column_inner][/vc_row_inner][vc_column_text el_class=”white”] \nShare\n[/vc_column_text]var switchTo5x=true;\n\nstLight.options({"publisher":"2aa5e07a-cb9e-4ea9-bf8a-29c78bd35f7d"});var st_type="wordpress4.5.1";\n[vc_row_inner css=”.vc_custom_1468908085120{margin-top: 35px !important;}”][vc_column_inner width=”1/2″][vc_icon icon_fontawesome=”fa fa-users” color=”custom” background_style=”rounded-outline” background_color=”black” size=”xl” align=”center” custom_color=”#d1ae6d” css=”.vc_custom_1664350328532{margin-bottom: 0px !important;border-bottom-width: 0px !important;padding-bottom: 0px !important;}” link=”url:https%3A%2F%2Fwww.om-macau.org%2Fen%2Fbe-om-friends%2F||target:%20_blank|”][vc_column_text] \nBe OM Friends \n[/vc_column_text][/vc_column_inner][vc_column_inner width=”1/2″][vc_icon icon_fontawesome=”fa fa-gift” color=”custom” background_style=”rounded-outline” background_color=”black” size=”xl” align=”center” custom_color=”#d1ae6d” css=”.vc_custom_1664949341973{margin-bottom: 0px !important;border-bottom-width: 0px !important;padding-bottom: 0px !important;}” link=”url:https%3A%2F%2Fwww.om-macau.org%2Fen%2Fmacao-orchestra-2022-23-concert-season-booking-guide%2F||target:%20_blank|”][vc_column_text] \nDiscount \n[/vc_column_text][/vc_column_inner][/vc_row_inner][/vc_column][/vc_row] \n
URL:https://www.om-macau.org/en/event/%e7%8e%8b%e8%80%85%e4%b9%8b%e8%81%b2-2/
LOCATION:澳門冼星海大馬路文化中心
GEO:22.1897888;113.5537849
X-APPLE-STRUCTURED-LOCATION;VALUE=URI;X-ADDRESS=澳門冼星海大馬路文化中心;X-APPLE-RADIUS=500;X-TITLE=澳門冼星海大馬路文化中心:geo:113.5537849,22.1897888
CATEGORIES:Eternal Classics
ATTACH;FMTTYPE=image/jpeg:https://www.om-macau.org/wp-content/uploads/2022/09/小图.jpg
END:VEVENT
END:VCALENDAR