BEGIN:VCALENDAR
VERSION:2.0
PRODID:-//Orquestra de Macau - ECPv4.6.12//NONSGML v1.0//EN
CALSCALE:GREGORIAN
METHOD:PUBLISH
X-WR-CALNAME:Orquestra de Macau
X-ORIGINAL-URL:https://www.om-macau.org/en/
X-WR-CALDESC:Events for Orquestra de Macau
BEGIN:VEVENT
DTSTART;TZID=UTC+8:20221111T200000
DTEND;TZID=UTC+8:20221111T210000
DTSTAMP:20260421T225435
CREATED:20221027T060833Z
LAST-MODIFIED:20221104T033933Z
UID:28705-1668196800-1668200400@www.om-macau.org
SUMMARY:The Spectacular Baroque Music
DESCRIPTION:[vc_row][vc_column width=”2/3″][vc_column_text]*Considering the recent epidemic situation\, the concert may be postponed or cancelled. The latest news will be announced on Facebook and website\, please stay tuned.[/vc_column_text][vc_column_text]Date:11/11/2022　 Friday 20:00 \nVenue:St. Dominic’s Church \nProgramme:\nBach: Brandenburg Concerto No. 3 in G Major\, BWV 1048\nBach: Brandenburg Concerto No. 6 in B-flat Major\, BWV 1051\nMozart: Symphony No. 40 in G minor\, K. 550[/vc_column_text][vc_column_text]Approximately 1 hour\, no interval[/vc_column_text][/vc_column][vc_column width=”1/3″][vc_column_text el_class=”white”] \nAdmission with free ticket\nTicket registration will start【4/11 12：00 noon – 5/11 12:00 noon】via the below link. Each person can register up to 2 tickets. Tickets are limited and on a first-come\, first-served basis.[/vc_column_text][vc_btn title=”Ticket Registration” style=”gradient-custom” gradient_custom_color_1=”#ff6e02″ gradient_custom_color_2=”#a34f10″ size=”lg” align=”center” button_block=”true” link=”url:http%3A%2F%2Fform.zh-sky.com%2Findex%3Ffid%3D323||target:%20_blank|” el_class=”custom-btn”][vc_btn title=”Open Rehearsal” style=”gradient-custom” gradient_custom_color_1=”#ff6e02″ gradient_custom_color_2=”#a34f10″ size=”lg” align=”center” button_block=”true” link=”url:http%3A%2F%2Fform.zh-sky.com%2Findex%3Ffid%3D324||target:%20_blank|” el_class=”custom-btn”][vc_column_text]Members of the public who have purchased tickets must present one of the following documents before entering the venue:\n1. Proof of completion of the whole course of the COVID-19 primary vaccination series (which includes two doses of the inactivated vaccine or the mRNA vaccine) for 14 days (as shown in the Macao Health Code with the “golden frame”);\n2. A negative nucleic acid test result issued within 48 hours.\nAll members of the public must undergo a body temperature check before entering the venue; those who have a fever or respiratory symptoms or fail to provide the aforesaid documentation are not allowed to enter the venue and tickets are not refunable.[/vc_column_text][vc_column_text el_class=”white”] \nDownload Information\n[/vc_column_text][vc_row_inner css=”.vc_custom_1468908085120{margin-top: 35px !important;}”][vc_column_inner width=”1/2″][vc_icon icon_fontawesome=”fa fa-users” color=”custom” background_style=”rounded-outline” background_color=”black” size=”xl” align=”center” custom_color=”#d1ae6d” css=”.vc_custom_1666850906481{margin-bottom: 0px !important;border-bottom-width: 0px !important;padding-bottom: 0px !important;}” link=”||target:%20_blank|”][vc_column_text] \nHouse Programme \n[/vc_column_text][/vc_column_inner][vc_column_inner width=”1/4″][/vc_column_inner][vc_column_inner width=”1/4″][/vc_column_inner][vc_column_inner width=”1/4″][/vc_column_inner][/vc_row_inner][vc_column_text el_class=”white”] \nShare\n[/vc_column_text]var switchTo5x=true;\n\nstLight.options({"publisher":"2aa5e07a-cb9e-4ea9-bf8a-29c78bd35f7d"});var st_type="wordpress4.5.1";\n[vc_row_inner css=”.vc_custom_1468908085120{margin-top: 35px !important;}”][vc_column_inner width=”1/2″][vc_icon icon_fontawesome=”fa fa-users” color=”custom” background_style=”rounded-outline” background_color=”black” size=”xl” align=”center” custom_color=”#d1ae6d” css=”.vc_custom_1664351703051{margin-bottom: 0px !important;border-bottom-width: 0px !important;padding-bottom: 0px !important;}” link=”url:https%3A%2F%2Fwww.om-macau.org%2Fen%2Fbe-om-friends-3%2F||target:%20_blank|”][vc_column_text] \nBe OM Friends \n[/vc_column_text][/vc_column_inner][vc_column_inner width=”1/2″][vc_icon icon_fontawesome=”fa fa-gift” color=”custom” background_style=”rounded-outline” background_color=”black” size=”xl” align=”center” custom_color=”#d1ae6d” css=”.vc_custom_1664351715324{margin-bottom: 0px !important;border-bottom-width: 0px !important;padding-bottom: 0px !important;}” link=”url:https%3A%2F%2Fwww.om-macau.org%2Fen%2Fmacao-orchestra-2022-23-concert-season-booking-guide%2F||target:%20_blank|”][vc_column_text] \nDiscount \n[/vc_column_text][/vc_column_inner][/vc_row_inner][/vc_column][/vc_row] \n
URL:https://www.om-macau.org/en/event/the-spectacular-baroque-music/
LOCATION:板樟堂前地
GEO:22.1944857;113.5405503
X-APPLE-STRUCTURED-LOCATION;VALUE=URI;X-ADDRESS=板樟堂前地;X-APPLE-RADIUS=500;X-TITLE=板樟堂前地:geo:113.5405503,22.1944857
ATTACH;FMTTYPE=image/jpeg:https://www.om-macau.org/wp-content/uploads/2022/10/微信图片_20221028104358.jpg
END:VEVENT
END:VCALENDAR